BEGIN:VCALENDAR
VERSION:2.0
PRODID:-//Hampden Hampshire Conservation District - ECPv6.15.20//NONSGML v1.0//EN
CALSCALE:GREGORIAN
METHOD:PUBLISH
X-WR-CALNAME:Hampden Hampshire Conservation District
X-ORIGINAL-URL:https://hampdenhampshireconservation.org
X-WR-CALDESC:Events for Hampden Hampshire Conservation District
REFRESH-INTERVAL;VALUE=DURATION:PT1H
X-Robots-Tag:noindex
X-PUBLISHED-TTL:PT1H
BEGIN:VTIMEZONE
TZID:UTC
BEGIN:STANDARD
TZOFFSETFROM:+0000
TZOFFSETTO:+0000
TZNAME:UTC
DTSTART:20240101T000000
END:STANDARD
END:VTIMEZONE
BEGIN:VEVENT
DTSTART;TZID=UTC:20250125T100000
DTEND;TZID=UTC:20250125T120000
DTSTAMP:20260421T153107
CREATED:20250113T203022Z
LAST-MODIFIED:20250113T205143Z
UID:3695-1737799200-1737806400@hampdenhampshireconservation.org
SUMMARY:How to Maintain a Native Plant Garden: Managing the changes that occur over time
DESCRIPTION:You have chosen and planted your native plant garden or meadow\, and a few years later\, whatever design you planned is no longer in place.Some plants have spread\, others seem crowded\, some are turning brown in summer\, others are thriving. Unexpected plants have popped up as birds\, squirrels and the plants themselves have put seeds into your garden. Your growing conditions may have shifted due to climate change. You will learn the choices you have for managing the changes in your garden\, depending on your preferences and your site conditions. There will be time for questions and discussion. Presented by Amy.
URL:https://hampdenhampshireconservation.org/event/how-to-maintain-a-native-plant-garden-managing-the-changes-that-occur-over-time-2/
LOCATION:Edwards Library (Southampton)\, 30 East Street\, Southampton\, MA\, 01073\, United States
CATEGORIES:Workshop
END:VEVENT
BEGIN:VEVENT
DTSTART;TZID=UTC:20250125T100000
DTEND;TZID=UTC:20250125T120000
DTSTAMP:20260421T153107
CREATED:20250113T203022Z
LAST-MODIFIED:20250113T205136Z
UID:3694-1737799200-1737806400@hampdenhampshireconservation.org
SUMMARY:Gardening for Biodiversity with Native Plants
DESCRIPTION:The “little things that run the world” are in big trouble: Insect populations are plummeting\, and many species are headed for extinction. This spells disaster for our food supply\, our ecology\, and indeed\, life on earth. The good news is that we can turn this around\, starting in our own yards. By planting native plants\, and other simple steps\, we can restore vital insect populations. Come learn what you can do\, and be inspired! Presented by Heidi.
URL:https://hampdenhampshireconservation.org/event/gardening-for-biodiversity-with-native-plants-2/
LOCATION:Westfield Athenaeum\, 6 Elm Street\, Westfield\, MA\, 01085\, United States
CATEGORIES:Workshop
END:VEVENT
END:VCALENDAR