BEGIN:VCALENDAR
VERSION:2.0
PRODID:-//Hampden Hampshire Conservation District - ECPv6.15.20//NONSGML v1.0//EN
CALSCALE:GREGORIAN
METHOD:PUBLISH
X-ORIGINAL-URL:https://hampdenhampshireconservation.org
X-WR-CALDESC:Events for Hampden Hampshire Conservation District
REFRESH-INTERVAL;VALUE=DURATION:PT1H
X-Robots-Tag:noindex
X-PUBLISHED-TTL:PT1H
BEGIN:VTIMEZONE
TZID:UTC
BEGIN:STANDARD
TZOFFSETFROM:+0000
TZOFFSETTO:+0000
TZNAME:UTC
DTSTART:20240101T000000
END:STANDARD
END:VTIMEZONE
BEGIN:VEVENT
DTSTART;TZID=UTC:20250315T110000
DTEND;TZID=UTC:20250315T130000
DTSTAMP:20260421T114439
CREATED:20250113T203033Z
LAST-MODIFIED:20250113T205228Z
UID:3706-1742036400-1742043600@hampdenhampshireconservation.org
SUMMARY:Transform Your Yard to Support Pollinators: A 12 Step Program
DESCRIPTION:Many people now realize the importance of pollinators and other essential wildlife. They want to make their yard pollinator-friendly\, but don’t know where to start. This talk will step you through the process of evaluation\, planning\, and implementation\, with many options for large and small changes. Presented by Heidi.
URL:https://hampdenhampshireconservation.org/event/transform-your-yard-to-support-pollinators-a-12-step-program-2/
LOCATION:Hubbard Library (Ludlow)\, 24 Center Street\, Ludlow\, MA\, 01056\, United States
CATEGORIES:Workshop
END:VEVENT
END:VCALENDAR