BEGIN:VCALENDAR
VERSION:2.0
PRODID:-//Hampden Hampshire Conservation District - ECPv6.15.20//NONSGML v1.0//EN
CALSCALE:GREGORIAN
METHOD:PUBLISH
X-WR-CALNAME:Hampden Hampshire Conservation District
X-ORIGINAL-URL:https://hampdenhampshireconservation.org
X-WR-CALDESC:Events for Hampden Hampshire Conservation District
REFRESH-INTERVAL;VALUE=DURATION:PT1H
X-Robots-Tag:noindex
X-PUBLISHED-TTL:PT1H
BEGIN:VTIMEZONE
TZID:UTC
BEGIN:STANDARD
TZOFFSETFROM:+0000
TZOFFSETTO:+0000
TZNAME:UTC
DTSTART:20240101T000000
END:STANDARD
END:VTIMEZONE
BEGIN:VEVENT
DTSTART;TZID=UTC:20250206T190000
DTEND;TZID=UTC:20250206T210000
DTSTAMP:20260422T160147
CREATED:20250113T203023Z
LAST-MODIFIED:20250113T205155Z
UID:3697-1738868400-1738875600@hampdenhampshireconservation.org
SUMMARY:Beyond Flowering Plants: Helping Pollinators Thrive Year Round
DESCRIPTION:This talk includes a brief introduction to the biodiversity crisis\, explaining why providing habitat for pollinators is essential for maintaining a sustainable ecosystem. Amy will show that pollinators not only need flowering native plants as food for adults\, but also need specialized native plants that provide food for their young. You will learn about the kinds of shelter needed year round for pollinator health and reproduction\, and how to manage your landscape to provide it. Amy will also discuss the need for water and the importance of minimizing night light. She will share extensive resources on choosing and sourcing native plants and managing our landscapes to support biodiversity. Presented by Amy.
URL:https://hampdenhampshireconservation.org/event/beyond-flowering-plants-helping-pollinators-thrive-year-round-2/
LOCATION:Zoom – VIRTUAL EVENT
CATEGORIES:Workshop - Virtual Event
END:VEVENT
BEGIN:VEVENT
DTSTART;TZID=UTC:20250227T190000
DTEND;TZID=UTC:20250227T210000
DTSTAMP:20260422T160147
CREATED:20250113T203026Z
LAST-MODIFIED:20250113T205207Z
UID:3699-1740682800-1740690000@hampdenhampshireconservation.org
SUMMARY:Environmentally Friendly Lawns and Lawn Alternatives
DESCRIPTION:Lawns are ecological dead zones. 40 million acres are devoted to lawn in this country; the largest irrigated crop. Mowers emit at least 16 million tons of CO2 per year. At the same time millions of species are headed for extinction\, in large part due to habitat loss. So\, changing the way we manage lawns and/or reducing their size presents a huge opportunity both to save species and address global warming- right in your own yard! This talk covers many ideas on how to convert your lawn to an ecological benefit. Presented by Heidi.
URL:https://hampdenhampshireconservation.org/event/environmentally-friendly-lawns-and-lawn-alternatives-4/
LOCATION:Zoom – VIRTUAL EVENT
CATEGORIES:Workshop - Virtual Event
END:VEVENT
END:VCALENDAR