BEGIN:VCALENDAR
VERSION:2.0
PRODID:-//Hampden Hampshire Conservation District - ECPv6.15.20//NONSGML v1.0//EN
CALSCALE:GREGORIAN
METHOD:PUBLISH
X-ORIGINAL-URL:https://hampdenhampshireconservation.org
X-WR-CALDESC:Events for Hampden Hampshire Conservation District
REFRESH-INTERVAL;VALUE=DURATION:PT1H
X-Robots-Tag:noindex
X-PUBLISHED-TTL:PT1H
BEGIN:VTIMEZONE
TZID:UTC
BEGIN:STANDARD
TZOFFSETFROM:+0000
TZOFFSETTO:+0000
TZNAME:UTC
DTSTART:20240101T000000
END:STANDARD
END:VTIMEZONE
BEGIN:VEVENT
DTSTART;TZID=UTC:20250123T190000
DTEND;TZID=UTC:20250123T210000
DTSTAMP:20260422T195051
CREATED:20250113T203022Z
LAST-MODIFIED:20250113T205130Z
UID:3693-1737658800-1737666000@hampdenhampshireconservation.org
SUMMARY:Transform Your Yard to Support Pollinators:
DESCRIPTION:A 12 Step Program Description: Many people now realize the importance of pollinators and other essential wildlife. They want to make their yard pollinator-friendly\, but don’t know where to start. This talk will step you through the process of evaluation\, planning\, and implementation\, with many options for large and small changes. Presented by Heidi.
URL:https://hampdenhampshireconservation.org/event/transform-your-yard-to-support-pollinators-2/
LOCATION:Zoom – VIRTUAL EVENT
CATEGORIES:Workshop - Virtual Event
END:VEVENT
END:VCALENDAR