BEGIN:VCALENDAR
VERSION:2.0
PRODID:-//Hampden Hampshire Conservation District - ECPv6.15.20//NONSGML v1.0//EN
CALSCALE:GREGORIAN
METHOD:PUBLISH
X-ORIGINAL-URL:https://hampdenhampshireconservation.org
X-WR-CALDESC:Events for Hampden Hampshire Conservation District
REFRESH-INTERVAL;VALUE=DURATION:PT1H
X-Robots-Tag:noindex
X-PUBLISHED-TTL:PT1H
BEGIN:VTIMEZONE
TZID:UTC
BEGIN:STANDARD
TZOFFSETFROM:+0000
TZOFFSETTO:+0000
TZNAME:UTC
DTSTART:20240101T000000
END:STANDARD
END:VTIMEZONE
BEGIN:VEVENT
DTSTART;TZID=UTC:20250320T190000
DTEND;TZID=UTC:20250320T210000
DTSTAMP:20260422T154021
CREATED:20250113T203033Z
LAST-MODIFIED:20250113T205232Z
UID:3707-1742497200-1742504400@hampdenhampshireconservation.org
SUMMARY:Managing Invasive Plants - the Why and How
DESCRIPTION:Invasive plants are one cause of declining pollinator populations\, loss of native plants\, and are hastening the extinction of many animal species.. Learn which plants are invasive and how to manage them to preserve and enhance wildlife habitat. Presented by Heidi.
URL:https://hampdenhampshireconservation.org/event/managing-invasive-plants-the-why-and-how-2/
LOCATION:Zoom – VIRTUAL EVENT
CATEGORIES:Workshop - Virtual Event
END:VEVENT
END:VCALENDAR